BEGIN:VCALENDAR
VERSION:2.0
PRODID:-//Athens Studio for Performing Arts - ECPv6.15.20//NONSGML v1.0//EN
CALSCALE:GREGORIAN
METHOD:PUBLISH
X-WR-CALNAME:Athens Studio for Performing Arts
X-ORIGINAL-URL:https://thestudioath.com
X-WR-CALDESC:Events for Athens Studio for Performing Arts
REFRESH-INTERVAL;VALUE=DURATION:PT1H
X-Robots-Tag:noindex
X-PUBLISHED-TTL:PT1H
BEGIN:VTIMEZONE
TZID:America/New_York
BEGIN:DAYLIGHT
TZOFFSETFROM:-0500
TZOFFSETTO:-0400
TZNAME:EDT
DTSTART:20220313T070000
END:DAYLIGHT
BEGIN:STANDARD
TZOFFSETFROM:-0400
TZOFFSETTO:-0500
TZNAME:EST
DTSTART:20221106T060000
END:STANDARD
BEGIN:DAYLIGHT
TZOFFSETFROM:-0500
TZOFFSETTO:-0400
TZNAME:EDT
DTSTART:20230312T070000
END:DAYLIGHT
BEGIN:STANDARD
TZOFFSETFROM:-0400
TZOFFSETTO:-0500
TZNAME:EST
DTSTART:20231105T060000
END:STANDARD
BEGIN:DAYLIGHT
TZOFFSETFROM:-0500
TZOFFSETTO:-0400
TZNAME:EDT
DTSTART:20240310T070000
END:DAYLIGHT
BEGIN:STANDARD
TZOFFSETFROM:-0400
TZOFFSETTO:-0500
TZNAME:EST
DTSTART:20241103T060000
END:STANDARD
END:VTIMEZONE
BEGIN:VEVENT
DTSTART;TZID=America/New_York:20230506T190000
DTEND;TZID=America/New_York:20230506T210000
DTSTAMP:20260420T034822
CREATED:20230303T170418Z
LAST-MODIFIED:20230303T170756Z
UID:10000026-1683399600-1683406800@thestudioath.com
SUMMARY:BLOOM
DESCRIPTION:Join us for BLOOM at the Morton Theatre! Doors open at 6:30pm\, show at 7pm. \nTickets are $15. \nPurchase tickets online!
URL:https://thestudioath.com/event/bloom/
LOCATION:Morton Theatre\, 195 W Washington St\, Athens\, GA\, United States
ATTACH;FMTTYPE=image/jpeg:https://thestudioath.com/wp-content/uploads/2023/03/IMG_5507.jpg
END:VEVENT
BEGIN:VEVENT
DTSTART;TZID=America/New_York:20230506T130000
DTEND;TZID=America/New_York:20230506T140000
DTSTAMP:20260420T034822
CREATED:20230303T165444Z
LAST-MODIFIED:20230308T153125Z
UID:10000028-1683378000-1683381600@thestudioath.com
SUMMARY:Season 2 Recital
DESCRIPTION:Join us for our Season 2 Recital at the Morton Theatre! There will be two shows – one at 10am and one at 1pm. Doors open 30 minutes before each show. \nTickets are $10\, and children under the age of 3 who do not need a seat are FREE. \nPurchase tickets online!
URL:https://thestudioath.com/event/season-2-recital/2023-05-06/2/
LOCATION:Morton Theatre\, 195 W Washington St\, Athens\, GA\, United States
ATTACH;FMTTYPE=image/jpeg:https://thestudioath.com/wp-content/uploads/2023/03/IMG_5582.jpg
END:VEVENT
BEGIN:VEVENT
DTSTART;TZID=America/New_York:20230506T100000
DTEND;TZID=America/New_York:20230506T110000
DTSTAMP:20260420T034822
CREATED:20230303T165444Z
LAST-MODIFIED:20230308T153125Z
UID:10000024-1683367200-1683370800@thestudioath.com
SUMMARY:Season 2 Recital
DESCRIPTION:Join us for our Season 2 Recital at the Morton Theatre! There will be two shows – one at 10am and one at 1pm. Doors open 30 minutes before each show. \nTickets are $10\, and children under the age of 3 who do not need a seat are FREE. \nPurchase tickets online!
URL:https://thestudioath.com/event/season-2-recital/2023-05-06/1/
LOCATION:Morton Theatre\, 195 W Washington St\, Athens\, GA\, United States
ATTACH;FMTTYPE=image/jpeg:https://thestudioath.com/wp-content/uploads/2023/03/IMG_5582.jpg
END:VEVENT
END:VCALENDAR