BEGIN:VCALENDAR
VERSION:2.0
PRODID:-//Athens Studio for Performing Arts - ECPv6.15.20//NONSGML v1.0//EN
CALSCALE:GREGORIAN
METHOD:PUBLISH
X-WR-CALNAME:Athens Studio for Performing Arts
X-ORIGINAL-URL:https://thestudioath.com
X-WR-CALDESC:Events for Athens Studio for Performing Arts
REFRESH-INTERVAL;VALUE=DURATION:PT1H
X-Robots-Tag:noindex
X-PUBLISHED-TTL:PT1H
BEGIN:VTIMEZONE
TZID:America/New_York
BEGIN:DAYLIGHT
TZOFFSETFROM:-0500
TZOFFSETTO:-0400
TZNAME:EDT
DTSTART:20250309T070000
END:DAYLIGHT
BEGIN:STANDARD
TZOFFSETFROM:-0400
TZOFFSETTO:-0500
TZNAME:EST
DTSTART:20251102T060000
END:STANDARD
BEGIN:DAYLIGHT
TZOFFSETFROM:-0500
TZOFFSETTO:-0400
TZNAME:EDT
DTSTART:20260308T070000
END:DAYLIGHT
BEGIN:STANDARD
TZOFFSETFROM:-0400
TZOFFSETTO:-0500
TZNAME:EST
DTSTART:20261101T060000
END:STANDARD
BEGIN:DAYLIGHT
TZOFFSETFROM:-0500
TZOFFSETTO:-0400
TZNAME:EDT
DTSTART:20270314T070000
END:DAYLIGHT
BEGIN:STANDARD
TZOFFSETFROM:-0400
TZOFFSETTO:-0500
TZNAME:EST
DTSTART:20271107T060000
END:STANDARD
END:VTIMEZONE
BEGIN:VEVENT
DTSTART;TZID=America/New_York:20260508T190000
DTEND;TZID=America/New_York:20260508T203000
DTSTAMP:20260420T010315
CREATED:20260303T003943Z
LAST-MODIFIED:20260303T010136Z
UID:10000117-1778266800-1778272200@thestudioath.com
SUMMARY:Shrek JR
DESCRIPTION:Beauty is in the eye of the ogre in Shrek The Musical Jr.\, based on the film and fantastic Broadway musical! \nIt’s a “big bright beautiful world” as everyone’s favorite ogre\, Shrek\, leads a cast of fairytale misfits on an adventure to rescue a princess and find true acceptance.  \nPart twisted fairy tale and part adventure story\, Shrek JR. is an irreverently fun show with a powerful message for the whole family about staying true to who you are.
URL:https://thestudioath.com/event/shrek-jr/
LOCATION:Morton Theatre\, 195 W Washington St\, Athens\, GA\, United States
ATTACH;FMTTYPE=image/webp:https://thestudioath.com/wp-content/uploads/2026/03/shrek-jr-1_1772218625.webp
END:VEVENT
BEGIN:VEVENT
DTSTART;TZID=America/New_York:20260509T190000
DTEND;TZID=America/New_York:20260509T203000
DTSTAMP:20260420T010315
CREATED:20260303T004316Z
LAST-MODIFIED:20260303T005624Z
UID:10000118-1778353200-1778358600@thestudioath.com
SUMMARY:Shrek JR
DESCRIPTION:Beauty is in the eye of the ogre in Shrek The Musical Jr.\, based on the film and fantastic Broadway musical! \nIt’s a “big bright beautiful world” as everyone’s favorite ogre\, Shrek\, leads a cast of fairytale misfits on an adventure to rescue a princess and find true acceptance.  \nPart twisted fairy tale and part adventure story\, Shrek JR. is an irreverently fun show with a powerful message for the whole family about staying true to who you are.
URL:https://thestudioath.com/event/shrek-jr-2/
LOCATION:Morton Theatre\, 195 W Washington St\, Athens\, GA\, United States
ATTACH;FMTTYPE=image/webp:https://thestudioath.com/wp-content/uploads/2026/03/shrek-jr-1_1772218625.webp
END:VEVENT
BEGIN:VEVENT
DTSTART;TZID=America/New_York:20260510T143000
DTEND;TZID=America/New_York:20260510T160000
DTSTAMP:20260420T010315
CREATED:20260303T004412Z
LAST-MODIFIED:20260303T011632Z
UID:10000119-1778423400-1778428800@thestudioath.com
SUMMARY:Shrek JR
DESCRIPTION:Beauty is in the eye of the ogre in Shrek The Musical Jr.\, based on the film and fantastic Broadway musical! \nIt’s a “big bright beautiful world” as everyone’s favorite ogre\, Shrek\, leads a cast of fairytale misfits on an adventure to rescue a princess and find true acceptance.  \nPart twisted fairy tale and part adventure story\, Shrek JR. is an irreverently fun show with a powerful message for the whole family about staying true to who you are.
URL:https://thestudioath.com/event/shrek-jr-3/
LOCATION:Morton Theatre\, 195 W Washington St\, Athens\, GA\, United States
ATTACH;FMTTYPE=image/webp:https://thestudioath.com/wp-content/uploads/2026/03/shrek-jr-1_1772218625.webp
END:VEVENT
BEGIN:VEVENT
DTSTART;TZID=America/New_York:20260515T200000
DTEND;TZID=America/New_York:20260515T220000
DTSTAMP:20260420T010315
CREATED:20260419T225711Z
LAST-MODIFIED:20260419T232027Z
UID:10000123-1778875200-1778882400@thestudioath.com
SUMMARY:Straight On 'Til Morning
DESCRIPTION:Join the Studio Athens adult dance companies on May 15-16\, 2026 at the Morton Theatre! Tickets on sale April 20! \nStraight On Til Morning invites audiences to rediscover the timeless world of Peter Pan through the art of dance.\nSet on the stage of the historic Morton Theatre\, this lovely production weaves together tap\, jazz\, hip hop\, contemporary\, modern\, and more into a seamless exploration of adventure\, longing\, and the bittersweet pull between childhood and the world left behind.  \nThe story’s most cherished characters — Peter\, Wendy\, Tinker Bell\, Tiger Lily\, Captain Hook\, and the Lost Boys — are reimagined through movement that is diverse in genre and deeply human.  \nChoreographed for adult performers and crafted for audiences of all ages\, Straight On Til Morning is a rare evening of dance theatre that reminds us why this story has endured — and why\, perhaps\, we can look to the stories of our childhood to brave the wide world beyond Neverland.
URL:https://thestudioath.com/event/straight-on-til-morning/
LOCATION:Morton Theatre\, 195 W Washington St\, Athens\, GA\, United States
CATEGORIES:Adult Dance Shows
ATTACH;FMTTYPE=image/png:https://thestudioath.com/wp-content/uploads/2026/04/Straight-On-Til-Morning-2048-x-1152-px.png
END:VEVENT
BEGIN:VEVENT
DTSTART;TZID=America/New_York:20260516T200000
DTEND;TZID=America/New_York:20260516T220000
DTSTAMP:20260420T010315
CREATED:20260419T231610Z
LAST-MODIFIED:20260419T231945Z
UID:10000127-1778961600-1778968800@thestudioath.com
SUMMARY:Straight On 'Til Morning
DESCRIPTION:Join the Studio Athens adult dance companies on May 15-16\, 2026 at the Morton Theatre! Tickets on sale April 20! \nStraight On Til Morning invites audiences to rediscover the timeless world of Peter Pan through the art of dance.\nSet on the stage of the historic Morton Theatre\, this lovely production weaves together tap\, jazz\, hip hop\, contemporary\, modern\, and more into a seamless exploration of adventure\, longing\, and the bittersweet pull between childhood and the world left behind.  \nThe story’s most cherished characters — Peter\, Wendy\, Tinker Bell\, Tiger Lily\, Captain Hook\, and the Lost Boys — are reimagined through movement that is diverse in genre and deeply human.  \nChoreographed for adult performers and crafted for audiences of all ages\, Straight On Til Morning is a rare evening of dance theatre that reminds us why this story has endured — and why\, perhaps\, we can look to the stories of our childhood to brave the wide world beyond Neverland.
URL:https://thestudioath.com/event/straight-on-til-morning-2/
LOCATION:Morton Theatre\, 195 W Washington St\, Athens\, GA\, United States
CATEGORIES:Adult Dance Shows
ATTACH;FMTTYPE=image/png:https://thestudioath.com/wp-content/uploads/2026/04/Straight-On-Til-Morning-2048-x-1152-px.png
END:VEVENT
END:VCALENDAR